BEGIN:VCALENDAR
VERSION:2.0
PRODID:-//LR &amp; PC Dubbeldam e.o. - ECPv6.15.20//NONSGML v1.0//EN
CALSCALE:GREGORIAN
METHOD:PUBLISH
X-ORIGINAL-URL:https://www.lrdubbeldam.nl
X-WR-CALDESC:Evenementen voor LR &amp; PC Dubbeldam e.o.
REFRESH-INTERVAL;VALUE=DURATION:PT1H
X-Robots-Tag:noindex
X-PUBLISHED-TTL:PT1H
BEGIN:VTIMEZONE
TZID:Europe/Amsterdam
BEGIN:DAYLIGHT
TZOFFSETFROM:+0100
TZOFFSETTO:+0200
TZNAME:CEST
DTSTART:20210328T010000
END:DAYLIGHT
BEGIN:STANDARD
TZOFFSETFROM:+0200
TZOFFSETTO:+0100
TZNAME:CET
DTSTART:20211031T010000
END:STANDARD
BEGIN:DAYLIGHT
TZOFFSETFROM:+0100
TZOFFSETTO:+0200
TZNAME:CEST
DTSTART:20220327T010000
END:DAYLIGHT
BEGIN:STANDARD
TZOFFSETFROM:+0200
TZOFFSETTO:+0100
TZNAME:CET
DTSTART:20221030T010000
END:STANDARD
BEGIN:DAYLIGHT
TZOFFSETFROM:+0100
TZOFFSETTO:+0200
TZNAME:CEST
DTSTART:20230326T010000
END:DAYLIGHT
BEGIN:STANDARD
TZOFFSETFROM:+0200
TZOFFSETTO:+0100
TZNAME:CET
DTSTART:20231029T010000
END:STANDARD
END:VTIMEZONE
BEGIN:VEVENT
DTSTART;TZID=Europe/Amsterdam:20220319T130000
DTEND;TZID=Europe/Amsterdam:20220319T170000
DTSTAMP:20260419T173447
CREATED:20220225T154822Z
LAST-MODIFIED:20220225T161137Z
UID:687-1647694800-1647709200@www.lrdubbeldam.nl
SUMMARY:Pony meten
DESCRIPTION:Moet jouw pony nog gemeten worden?\nOp onze rijvereniging komt op zaterdagmiddag 19 maart a.s. een KNHS ponymeter.\nDe kosten zijn €10\,00 per pony.\nGeef je op door een pm naar ons te sturen. Vermeld daarbij duidelijk je naam en het aantal pony’s waarmee je komt.\n\n\nAanmelden kan tot dinsdag 15 maart as.
URL:https://www.lrdubbeldam.nl/event/pony-meten/
LOCATION:LR&PC Dubbeldam\, Schenkeldijk beneden 15\, Dordrecht\, 3328LA\, Nederland
ATTACH;FMTTYPE=image/jpeg:https://www.lrdubbeldam.nl/wp-content/uploads/2022/02/pony-meten.jpg
END:VEVENT
END:VCALENDAR